BEGIN:VCALENDAR
VERSION:2.0
PRODID:-//SpaceQ Media Inc. - ECPv6.15.20//NONSGML v1.0//EN
CALSCALE:GREGORIAN
METHOD:PUBLISH
X-WR-CALNAME:SpaceQ Media Inc.
X-ORIGINAL-URL:https://spaceq.ca
X-WR-CALDESC:Events for SpaceQ Media Inc.
REFRESH-INTERVAL;VALUE=DURATION:PT1H
X-Robots-Tag:noindex
X-PUBLISHED-TTL:PT1H
BEGIN:VTIMEZONE
TZID:America/Toronto
BEGIN:DAYLIGHT
TZOFFSETFROM:-0500
TZOFFSETTO:-0400
TZNAME:EDT
DTSTART:20220313T070000
END:DAYLIGHT
BEGIN:STANDARD
TZOFFSETFROM:-0400
TZOFFSETTO:-0500
TZNAME:EST
DTSTART:20221106T060000
END:STANDARD
BEGIN:DAYLIGHT
TZOFFSETFROM:-0500
TZOFFSETTO:-0400
TZNAME:EDT
DTSTART:20230312T070000
END:DAYLIGHT
BEGIN:STANDARD
TZOFFSETFROM:-0400
TZOFFSETTO:-0500
TZNAME:EST
DTSTART:20231105T060000
END:STANDARD
BEGIN:DAYLIGHT
TZOFFSETFROM:-0500
TZOFFSETTO:-0400
TZNAME:EDT
DTSTART:20240310T070000
END:DAYLIGHT
BEGIN:STANDARD
TZOFFSETFROM:-0400
TZOFFSETTO:-0500
TZNAME:EST
DTSTART:20241103T060000
END:STANDARD
BEGIN:DAYLIGHT
TZOFFSETFROM:-0500
TZOFFSETTO:-0400
TZNAME:EDT
DTSTART:20250309T070000
END:DAYLIGHT
BEGIN:STANDARD
TZOFFSETFROM:-0400
TZOFFSETTO:-0500
TZNAME:EST
DTSTART:20251102T060000
END:STANDARD
BEGIN:DAYLIGHT
TZOFFSETFROM:-0500
TZOFFSETTO:-0400
TZNAME:EDT
DTSTART:20260308T070000
END:DAYLIGHT
BEGIN:STANDARD
TZOFFSETFROM:-0400
TZOFFSETTO:-0500
TZNAME:EST
DTSTART:20261101T060000
END:STANDARD
END:VTIMEZONE
BEGIN:VEVENT
DTSTART;VALUE=DATE:20250604
DTEND;VALUE=DATE:20250605
DTSTAMP:20260419T112409
CREATED:20250521T154239Z
LAST-MODIFIED:20250523T160747Z
UID:41162-1748995200-1749081599@spaceq.ca
SUMMARY:Horizons 2025
DESCRIPTION:Space Canada Horizons 2025 will be a unique opportunity to network with other Space Canada members and key government officials\, engage in thought-provoking conversations\, and explore what 2024 and beyond will look like for the space industry.
URL:https://spaceq.ca/event/horizons_2025/
LOCATION:Bayview Yards\, 7 Bayview Station Road\, Ottawa\, Ontario\, Canada
CATEGORIES:Industry
ATTACH;FMTTYPE=image/jpeg:https://spaceq.ca/wp-content/uploads/2025/05/space_canada_horizons-2025_v2.jpg
ORGANIZER;CN="Space Canada":MAILTO:info@space-canada.ca
END:VEVENT
BEGIN:VEVENT
DTSTART;VALUE=DATE:20231017
DTEND;VALUE=DATE:20231020
DTSTAMP:20260419T112409
CREATED:20230905T181251Z
LAST-MODIFIED:20230905T181251Z
UID:34817-1697500800-1697759999@spaceq.ca
SUMMARY:SpaceBound 2023 Conference
DESCRIPTION:The three-day event will be held in Ottawa from October 17-19\, 2023. \nSpace Day on the Hill will open the event on October 17\, an opportunity for members of Space Canada to engage with elected officials\, political staffers\, and public servants involved in the space sector. \nSpace Canada’s Parliamentary Reception will follow at the Sir John A. Macdonald building from 5-7 p.m. The reception will feature a variety of guest speakers\, industry leaders and networking. The reception is open to all Space Day on the Hill and the Spacebound 2023 conference attendees. \nFollowing the Space Day on the Hill & Parliamentary Reception will be Space Canada’s annual conference entitled SpaceBound 2023 at the Canadian Museum of Nature in Ottawa on October 18-19. The two-day conference will feature networking opportunities with thought leaders in the industry and discussions on key topics and industry trends. Join other dynamic leaders in the space industry and ecosystem as well as key stakeholders for this opportunity to meet and discuss how to strengthen the Canadian space sector.
URL:https://spaceq.ca/event/spacebound-2023-conference/
LOCATION:Canadian Museum of Nature\, 240 McLeod St\, Ottawa\, ON\, K2P 2R1\, Canada
CATEGORIES:Industry
ATTACH;FMTTYPE=image/png:https://spaceq.ca/wp-content/uploads/2023/08/space-bound_conference_2023.png
ORGANIZER;CN="Space Canada":MAILTO:info@space-canada.ca
END:VEVENT
END:VCALENDAR